BEGIN:VCALENDAR
VERSION:2.0
PRODID:-//ChamberMaster//Event Calendar 2.0//EN
METHOD:PUBLISH
X-PUBLISHED-TTL:P3D
REFRESH-INTERVAL:P3D
CALSCALE:GREGORIAN
BEGIN:VEVENT
DTSTART;VALUE=DATE:20250613
DTEND;VALUE=DATE:20250615
TRANSP:TRANSPARENT
X-MICROSOFT-CDO-ALLDAYEVENT:TRUE
SUMMARY:2025 Peach Jam Jubilee - 20th Anniversary Celebration
DESCRIPTION:Join us for great entertainment\, arts and craft vendors\, food vendors\, inflatables and much more!  Find details and sign up to be a sponsor or vendor at www.peachjamjubilee.com\n\n2025 marks the 20th anniversary of Peach Jam!
X-ALT-DESC;FMTTYPE=text/html:Join us for great entertainment\, arts and craft vendors\, food vendors\, inflatables and much more!&nbsp\; Find details and sign up to be a sponsor or vendor at www.peachjamjubilee.com<br />\n2025 marks the 20th anniversary of Peach Jam!
LOCATION:Clanton City Park
UID:e.3404.871
SEQUENCE:3
DTSTAMP:20260425T185209Z
URL:https://www.chiltonchamber.org/events/details/2025-peach-jam-jubilee-20th-anniversary-celebration-871
END:VEVENT

END:VCALENDAR
