BEGIN:VCALENDAR
VERSION:2.0
PRODID:-//ChamberMaster//Event Calendar 2.0//EN
METHOD:PUBLISH
X-PUBLISHED-TTL:P3D
REFRESH-INTERVAL:P3D
CALSCALE:GREGORIAN
BEGIN:VEVENT
DTSTART:20230929T140000Z
DTEND:20230929T200000Z
X-MICROSOFT-CDO-ALLDAYEVENT:FALSE
SUMMARY:AWSP Workshop Event
DESCRIPTION:
X-ALT-DESC;FMTTYPE=text/html:
LOCATION:Jefferson State Community College 1850 Lay Dam Road 35045
UID:e.3404.816
SEQUENCE:3
DTSTAMP:20260424T042935Z
URL:https://www.chiltonchamber.org/events/details/awsp-workshop-event-816
END:VEVENT

END:VCALENDAR
