BEGIN:VCALENDAR
VERSION:2.0
PRODID:-//ChamberMaster//Event Calendar 2.0//EN
METHOD:PUBLISH
X-PUBLISHED-TTL:P3D
REFRESH-INTERVAL:P3D
CALSCALE:GREGORIAN
BEGIN:VEVENT
DTSTART:20240727T150000Z
DTEND:20240727T180000Z
X-MICROSOFT-CDO-ALLDAYEVENT:FALSE
SUMMARY:Back to School Bash by the Central Alabama Wellness
DESCRIPTION:
X-ALT-DESC;FMTTYPE=text/html:
LOCATION:
UID:e.3404.843
SEQUENCE:3
DTSTAMP:20260426T003959Z
URL:https://www.chiltonchamber.org/events/details/back-to-school-bash-by-the-central-alabama-wellness-843
END:VEVENT

END:VCALENDAR
