BEGIN:VCALENDAR
VERSION:2.0
PRODID:-//ChamberMaster//Event Calendar 2.0//EN
METHOD:PUBLISH
X-PUBLISHED-TTL:P3D
REFRESH-INTERVAL:P3D
CALSCALE:GREGORIAN
BEGIN:VEVENT
DTSTART:20250412T160000Z
DTEND:20250412T190000Z
X-MICROSOFT-CDO-ALLDAYEVENT:FALSE
SUMMARY:Baugh Ford 15th Anniversary Celebration
DESCRIPTION:
X-ALT-DESC;FMTTYPE=text/html:
LOCATION:
UID:e.3404.877
SEQUENCE:3
DTSTAMP:20260425T121543Z
URL:https://www.chiltonchamber.org/events/details/baugh-ford-15th-anniversary-celebration-877
END:VEVENT

END:VCALENDAR
