BEGIN:VCALENDAR
VERSION:2.0
PRODID:-//ChamberMaster//Event Calendar 2.0//EN
METHOD:PUBLISH
X-PUBLISHED-TTL:P3D
REFRESH-INTERVAL:P3D
CALSCALE:GREGORIAN
BEGIN:VEVENT
DTSTART:20251101T190000Z
DTEND:20251102T000000Z
X-MICROSOFT-CDO-ALLDAYEVENT:FALSE
SUMMARY:Bondfire Ranch Fall Festival
DESCRIPTION:Fishing\, horse demonstrations\, music and a Veteran Service will all be a part of this day.  There will also be organization booths\, food and a silent auction.
X-ALT-DESC;FMTTYPE=text/html:Fishing\, horse demonstrations\, music and a Veteran Service will all be a part of this day. &nbsp\;There will also be organization booths\, food and a silent auction.
LOCATION:
UID:e.3404.905
SEQUENCE:3
DTSTAMP:20260426T003809Z
URL:https://www.chiltonchamber.org/events/details/bondfire-ranch-fall-festival-905
END:VEVENT

END:VCALENDAR
