BEGIN:VCALENDAR
VERSION:2.0
PRODID:-//ChamberMaster//Event Calendar 2.0//EN
METHOD:PUBLISH
X-PUBLISHED-TTL:P3D
REFRESH-INTERVAL:P3D
CALSCALE:GREGORIAN
BEGIN:VEVENT
DTSTART;VALUE=DATE:20250927
DTEND;VALUE=DATE:20250928
TRANSP:TRANSPARENT
X-MICROSOFT-CDO-ALLDAYEVENT:TRUE
SUMMARY:CAEC Lineman Fishing Tournament Benefit
DESCRIPTION:CAEC Lineman Scholarship Fund Benefit Fishing Tournament
X-ALT-DESC;FMTTYPE=text/html:CAEC Lineman Scholarship Fund Benefit Fishing Tournament
LOCATION:Lake Mitchell at Higgins Ferry
UID:e.3404.896
SEQUENCE:3
DTSTAMP:20260425T222535Z
URL:https://www.chiltonchamber.org/events/details/caec-lineman-fishing-tournament-benefit-896
END:VEVENT

END:VCALENDAR
