BEGIN:VCALENDAR
VERSION:2.0
PRODID:-//ChamberMaster//Event Calendar 2.0//EN
METHOD:PUBLISH
X-PUBLISHED-TTL:P3D
REFRESH-INTERVAL:P3D
CALSCALE:GREGORIAN
BEGIN:VEVENT
DTSTART;VALUE=DATE:20230508
DTEND;VALUE=DATE:20230513
TRANSP:TRANSPARENT
X-MICROSOFT-CDO-ALLDAYEVENT:TRUE
SUMMARY:Caft-A-Cropolis
DESCRIPTION:Crafting with Maymay and friends! \n\n \nLayer cakes and paper packs are very similar.  Penny and Emily will show you how to take the one layer cake and make as many quilt blocks as using it!  Then you will turn those blocks into a quilt top with a border.\n\n \n\nThis class will be done at your crop table in the crop room.  You will complete one part of the quilt daily till your complete quilt top is done!
X-ALT-DESC;FMTTYPE=text/html:<span style="color:#000000\;"><strong><span style="font-size:14px\;"><span style="font-family:arial\;">Crafting with Maymay and friends!&nbsp\;</span></span></strong></span><br />\n&nbsp\;\n<div class="x_elementToProof" style="font-size: 16px\; box-sizing: border-box\; caret-color: rgb(105\, 114\, 123)\; color: rgb(105\, 114\, 123)\; font-family: &quot\;Work Sans&quot\;\, sans-serif\;"><span style="color:#000000\;"><strong><span style="font-size:14px\;"><span style="font-family:arial\;">Layer cakes and paper packs are very similar.&nbsp\; Penny and Emily will show you how to take the one layer cake and make as many quilt blocks as using it!&nbsp\; Then you will turn those blocks into a quilt top with a border.</span></span></strong></span></div>\n\n<div class="x_elementToProof" style="font-size: 16px\; box-sizing: border-box\; caret-color: rgb(105\, 114\, 123)\; color: rgb(105\, 114\, 123)\; font-family: &quot\;Work Sans&quot\;\, sans-serif\;">&nbsp\;</div>\n\n<div class="x_elementToProof" style="font-size: 16px\; box-sizing: border-box\; caret-color: rgb(105\, 114\, 123)\; color: rgb(105\, 114\, 123)\; font-family: &quot\;Work Sans&quot\;\, sans-serif\;"><span style="color:#000000\;"><strong><span style="font-size:14px\;"><span style="font-family:arial\;">This class will be done at your crop table in the crop room.&nbsp\; You will complete one part of the quilt daily till your complete quilt top is done!</span></span></strong></span></div>\n\n<div class="x_elementToProof" style="font-size: 16px\; box-sizing: border-box\; caret-color: rgb(105\, 114\, 123)\; color: rgb(105\, 114\, 123)\; font-family: &quot\;Work Sans&quot\;\, sans-serif\;">&nbsp\;</div>\n
LOCATION:Performing Arts Center\, 1850 Lay Dam Rd\, Clanton\, AL 35045
UID:e.3404.795
SEQUENCE:3
DTSTAMP:20260425T140151Z
URL:https://www.chiltonchamber.org/events/details/caft-a-cropolis-795
END:VEVENT

END:VCALENDAR
