BEGIN:VCALENDAR
VERSION:2.0
PRODID:-//ChamberMaster//Event Calendar 2.0//EN
METHOD:PUBLISH
X-PUBLISHED-TTL:P3D
REFRESH-INTERVAL:P3D
CALSCALE:GREGORIAN
BEGIN:VEVENT
DTSTART:20250909T230000Z
DTEND:20250910T010000Z
X-MICROSOFT-CDO-ALLDAYEVENT:FALSE
SUMMARY:Care Net Fiesta Gala Fundraiser
DESCRIPTION:Fundraiser gala supporting Care Net of Chilton County
X-ALT-DESC;FMTTYPE=text/html:Fundraiser gala supporting Care Net of Chilton County
LOCATION:6th Street Warehouse
UID:e.3404.893
SEQUENCE:3
DTSTAMP:20260425T222511Z
URL:https://www.chiltonchamber.org/events/details/care-net-fiesta-gala-fundraiser-893
END:VEVENT

END:VCALENDAR
