BEGIN:VCALENDAR
VERSION:2.0
PRODID:-//ChamberMaster//Event Calendar 2.0//EN
METHOD:PUBLISH
X-PUBLISHED-TTL:P3D
REFRESH-INTERVAL:P3D
CALSCALE:GREGORIAN
BEGIN:VEVENT
DTSTART;VALUE=DATE:20250925
DTEND;VALUE=DATE:20250926
TRANSP:TRANSPARENT
X-MICROSOFT-CDO-ALLDAYEVENT:TRUE
SUMMARY:Chilton Chamber Golf Tournament
DESCRIPTION:Join us for the 3rd Annual Chilton Chamber Golf Tournament and Fall Supper on September 25th.  Proceeds from this event are used to fund the Mike Robertson Scholarship Fund.  This will be a 2-man scramble that will tee off at 1:00 PM.  Winners will be announced and dinner will be served at 6:00 PM\, with Ya Betta Eat Cajun Smokehouse catering.\n\nCome join the fun\, network and fellowship all while supporting a great cause!  Last year\, we were able to give 12 Career Tech students a $500 scholarship each! Work with us to continue this tradition of honoring Mike Robertson while helping Career Tech students get the best possible start to their future!
X-ALT-DESC;FMTTYPE=text/html:Join us for the 3rd Annual Chilton Chamber Golf Tournament and Fall Supper on September 25th.&nbsp\; Proceeds from this event are used to fund the Mike Robertson Scholarship Fund.&nbsp\; This will be a 2-man scramble that will tee off at 1:00 PM.&nbsp\; Winners will be announced and dinner will be served at 6:00 PM\, with Ya Betta Eat Cajun Smokehouse catering.<br />\nCome join the fun\, network and fellowship all while supporting a great cause!&nbsp\;&nbsp\;Last year\, we were able to give 12 Career Tech students a $500 scholarship each! Work with us to continue this tradition of honoring Mike Robertson while helping Career Tech students get the best possible start to their future!
LOCATION:Clanton Country Club 1 Country Club Road Clanton\, AL 35045
UID:e.3404.898
SEQUENCE:3
DTSTAMP:20260425T222455Z
URL:https://www.chiltonchamber.org/events/details/chilton-chamber-golf-tournament-898
END:VEVENT

END:VCALENDAR
