BEGIN:VCALENDAR
VERSION:2.0
PRODID:-//ChamberMaster//Event Calendar 2.0//EN
METHOD:PUBLISH
X-PUBLISHED-TTL:P3D
REFRESH-INTERVAL:P3D
CALSCALE:GREGORIAN
BEGIN:VEVENT
DTSTART:20240720T140000Z
DTEND:20240720T200000Z
X-MICROSOFT-CDO-ALLDAYEVENT:FALSE
SUMMARY:Chilton County Arts Council 14th annual Arts Fest
DESCRIPTION:
X-ALT-DESC;FMTTYPE=text/html:
LOCATION:
UID:e.3404.842
SEQUENCE:3
DTSTAMP:20260426T004057Z
URL:https://www.chiltonchamber.org/events/details/chilton-county-arts-council-14th-annual-arts-fest-842
END:VEVENT

END:VCALENDAR
