BEGIN:VCALENDAR
VERSION:2.0
PRODID:-//ChamberMaster//Event Calendar 2.0//EN
METHOD:PUBLISH
X-PUBLISHED-TTL:P3D
REFRESH-INTERVAL:P3D
CALSCALE:GREGORIAN
BEGIN:VEVENT
DTSTART:20251119T000000Z
DTEND:20251119T020000Z
X-MICROSOFT-CDO-ALLDAYEVENT:FALSE
SUMMARY:Chilton County Farm City Banquet
DESCRIPTION:A night to celebrate the connections between rural and urban life.  Guest speaker will be Representative Van Smith
X-ALT-DESC;FMTTYPE=text/html:A night to celebrate the connections between rural and urban life. &nbsp\;Guest speaker will be Representative Van Smith
LOCATION:Ticekts are $30 and can be purchased at the Chilton Chamber. Event will be held at the Clanton Conference Center 1850 Lay Dam Road\, Clanton\, AL
UID:e.3404.910
SEQUENCE:3
DTSTAMP:20260426T004005Z
URL:https://www.chiltonchamber.org/events/details/chilton-county-farm-city-banquet-910
END:VEVENT

END:VCALENDAR
