BEGIN:VCALENDAR
VERSION:2.0
PRODID:-//ChamberMaster//Event Calendar 2.0//EN
METHOD:PUBLISH
X-PUBLISHED-TTL:P3D
REFRESH-INTERVAL:P3D
CALSCALE:GREGORIAN
BEGIN:VEVENT
DTSTART;VALUE=DATE:20240622
DTEND;VALUE=DATE:20240630
TRANSP:TRANSPARENT
X-MICROSOFT-CDO-ALLDAYEVENT:TRUE
SUMMARY:Chilton County Peach Festival / Presented by the Clanton Lions Club
DESCRIPTION:The Chilton County Peach Festival is a week long event that features pageants\, parade\, and Peach Auction to celebrate local peach growers.
X-ALT-DESC;FMTTYPE=text/html:The Chilton County Peach Festival is a week long event that features pageants\, parade\, and Peach Auction to celebrate local peach growers.&nbsp\;&nbsp\;&nbsp\;&nbsp\;&nbsp\;&nbsp\;&nbsp\;&nbsp\;
LOCATION:
UID:e.3404.827
SEQUENCE:3
DTSTAMP:20260426T014825Z
URL:https://www.chiltonchamber.org/events/details/chilton-county-peach-festival-presented-by-the-clanton-lions-club-827
END:VEVENT

END:VCALENDAR
