BEGIN:VCALENDAR
VERSION:2.0
PRODID:-//ChamberMaster//Event Calendar 2.0//EN
METHOD:PUBLISH
X-PUBLISHED-TTL:P3D
REFRESH-INTERVAL:P3D
CALSCALE:GREGORIAN
BEGIN:VEVENT
DTSTART;VALUE=DATE:20250621
DTEND;VALUE=DATE:20250629
TRANSP:TRANSPARENT
X-MICROSOFT-CDO-ALLDAYEVENT:TRUE
SUMMARY:Chilton County Peach Festival sponsored by the Clanton Lions Club
DESCRIPTION:Find details for all the events at www.chiltonpeachfest.com
X-ALT-DESC;FMTTYPE=text/html:Find details for all the events at www.chiltonpeachfest.com
LOCATION:
UID:e.3404.887
SEQUENCE:3
DTSTAMP:20260425T185445Z
URL:https://www.chiltonchamber.org/events/details/chilton-county-peach-festival-sponsored-by-the-clanton-lions-club-887
END:VEVENT

END:VCALENDAR
