BEGIN:VCALENDAR
VERSION:2.0
PRODID:-//ChamberMaster//Event Calendar 2.0//EN
METHOD:PUBLISH
X-PUBLISHED-TTL:P3D
REFRESH-INTERVAL:P3D
CALSCALE:GREGORIAN
BEGIN:VEVENT
DTSTART:20250410T130000Z
DTEND:20250410T190000Z
X-MICROSOFT-CDO-ALLDAYEVENT:FALSE
SUMMARY:Chilton County Schools Career Fair
DESCRIPTION:Chilton County Schools Career Fair\, local businesses job fair
X-ALT-DESC;FMTTYPE=text/html:Chilton County Schools Career Fair\, local businesses job fair
LOCATION:1850 Lay Dam Road Clanton\, AL 35045
UID:e.3404.875
SEQUENCE:3
DTSTAMP:20260425T121737Z
URL:https://www.chiltonchamber.org/events/details/chilton-county-schools-career-fair-875
END:VEVENT

END:VCALENDAR
