BEGIN:VCALENDAR
VERSION:2.0
PRODID:-//ChamberMaster//Event Calendar 2.0//EN
METHOD:PUBLISH
X-PUBLISHED-TTL:P3D
REFRESH-INTERVAL:P3D
CALSCALE:GREGORIAN
BEGIN:VEVENT
DTSTART:20250917T133000Z
DTEND:20250917T173000Z
X-MICROSOFT-CDO-ALLDAYEVENT:FALSE
SUMMARY:Chilton County Schools College and Career Fair
DESCRIPTION:High School students visit with local business\, industry\, college and military recruitment.
X-ALT-DESC;FMTTYPE=text/html:High School students visit with local business\, industry\, college and military recruitment.
LOCATION:Jefferson State Community College 1850 Lay Dam Road Clanton\, AL 35045
UID:e.3404.894
SEQUENCE:3
DTSTAMP:20260425T222615Z
URL:https://www.chiltonchamber.org/events/details/chilton-county-schools-college-and-career-fair-894
END:VEVENT

END:VCALENDAR
