BEGIN:VCALENDAR
VERSION:2.0
PRODID:-//ChamberMaster//Event Calendar 2.0//EN
METHOD:PUBLISH
X-PUBLISHED-TTL:P3D
REFRESH-INTERVAL:P3D
CALSCALE:GREGORIAN
BEGIN:VEVENT
DTSTART;VALUE=DATE:20250425
DTEND;VALUE=DATE:20250427
TRANSP:TRANSPARENT
X-MICROSOFT-CDO-ALLDAYEVENT:TRUE
SUMMARY:Chilton County Spring Open House for Businesses
DESCRIPTION:Businesses throughout the county will be open for business and ready to celebrate with a Spring Open House.  Visit various locations for a variety of specials\, sales\, and giveaways.  Find more information on Facebook at Chilton Chamber
X-ALT-DESC;FMTTYPE=text/html:Businesses throughout the county will be open for business and ready to celebrate with a Spring Open House.&nbsp\; Visit various locations for a variety of specials\, sales\, and giveaways.&nbsp\; Find more information on Facebook at Chilton Chamber
LOCATION:
UID:e.3404.874
SEQUENCE:3
DTSTAMP:20260425T121900Z
URL:https://www.chiltonchamber.org/events/details/chilton-county-spring-open-house-for-businesses-874
END:VEVENT

END:VCALENDAR
