BEGIN:VCALENDAR
VERSION:2.0
PRODID:-//ChamberMaster//Event Calendar 2.0//EN
METHOD:PUBLISH
X-PUBLISHED-TTL:P3D
REFRESH-INTERVAL:P3D
CALSCALE:GREGORIAN
BEGIN:VEVENT
DTSTART:20240427T150000Z
DTEND:20240427T220000Z
X-MICROSOFT-CDO-ALLDAYEVENT:FALSE
SUMMARY:Chilton County Strawberry Festival
DESCRIPTION:A celebration of Chilton County Agriculture with arts\, crafts\, food vendors\, live entertainment\, Art contest for all ages.
X-ALT-DESC;FMTTYPE=text/html:A celebration of Chilton County Agriculture with arts\, crafts\, food vendors\, live entertainment\, Art contest for all ages.&nbsp\;&nbsp\;
LOCATION:Richard Wood Park\, 8696 Franklin Street\, Thorsby
UID:e.3404.826
SEQUENCE:3
DTSTAMP:20260426T035610Z
URL:https://www.chiltonchamber.org/events/details/chilton-county-strawberry-festival-826
END:VEVENT

END:VCALENDAR
