BEGIN:VCALENDAR
VERSION:2.0
PRODID:-//ChamberMaster//Event Calendar 2.0//EN
METHOD:PUBLISH
X-PUBLISHED-TTL:P3D
REFRESH-INTERVAL:P3D
CALSCALE:GREGORIAN
BEGIN:VEVENT
DTSTART:20250718T160000Z
DTEND:20250718T180000Z
X-MICROSOFT-CDO-ALLDAYEVENT:FALSE
SUMMARY:Chilton Women of Impact Power and Purpose Luncheon
DESCRIPTION:Chilton Women of Impact Luncheon with guest speaker\, Senator April Weaver.  Cost to attend is $15 for lunch.\n\nValle Grande Mexican Grille
X-ALT-DESC;FMTTYPE=text/html:Chilton Women of Impact Luncheon with guest speaker\, Senator April Weaver. &nbsp\;Cost to attend is $15 for lunch.<br />\nValle Grande Mexican Grille
LOCATION:
UID:e.3404.891
SEQUENCE:3
DTSTAMP:20260425T201256Z
URL:https://www.chiltonchamber.org/events/details/chilton-women-of-impact-power-and-purpose-luncheon-891
END:VEVENT

END:VCALENDAR
