BEGIN:VCALENDAR
VERSION:2.0
PRODID:-//ChamberMaster//Event Calendar 2.0//EN
METHOD:PUBLISH
X-PUBLISHED-TTL:P3D
REFRESH-INTERVAL:P3D
CALSCALE:GREGORIAN
BEGIN:VEVENT
DTSTART:20240705T020000Z
DTEND:20240705T030000Z
X-MICROSOFT-CDO-ALLDAYEVENT:FALSE
SUMMARY:City of Clanton 4th of July Fireworks Display
DESCRIPTION:City of Clanton 4th of July Fireworks Display
X-ALT-DESC;FMTTYPE=text/html:City of Clanton 4th of July Fireworks Display&nbsp\;&nbsp\;&nbsp\;&nbsp\;&nbsp\;&nbsp\;&nbsp\;&nbsp\;
LOCATION:Clanton City Parks
UID:e.3404.837
SEQUENCE:3
DTSTAMP:20260426T004106Z
URL:https://www.chiltonchamber.org/events/details/city-of-clanton-4th-of-july-fireworks-display-837
END:VEVENT

END:VCALENDAR
