BEGIN:VCALENDAR
VERSION:2.0
PRODID:-//ChamberMaster//Event Calendar 2.0//EN
METHOD:PUBLISH
X-PUBLISHED-TTL:P3D
REFRESH-INTERVAL:P3D
CALSCALE:GREGORIAN
BEGIN:VEVENT
DTSTART:20241206T233000Z
DTEND:20241207T030000Z
X-MICROSOFT-CDO-ALLDAYEVENT:FALSE
SUMMARY:Clanton Christmas Parade And Tree Lighting
DESCRIPTION:The annual Clanton Christmas parade and tree lighting event.
X-ALT-DESC;FMTTYPE=text/html:The annual Clanton Christmas parade and tree lighting event.
LOCATION:Downtown Clanton
UID:e.3404.867
SEQUENCE:3
DTSTAMP:20260425T185204Z
URL:https://www.chiltonchamber.org/events/details/clanton-christmas-parade-and-tree-lighting-867
END:VEVENT

END:VCALENDAR
