BEGIN:VCALENDAR
VERSION:2.0
PRODID:-//ChamberMaster//Event Calendar 2.0//EN
METHOD:PUBLISH
X-PUBLISHED-TTL:P3D
REFRESH-INTERVAL:P3D
CALSCALE:GREGORIAN
BEGIN:VEVENT
DTSTART:20230609T230000Z
DTEND:20230610T020000Z
X-MICROSOFT-CDO-ALLDAYEVENT:FALSE
SUMMARY:Clanton City Fest
DESCRIPTION:Held in downtown Clanton\, City Fest is a fun night of entertainment\, vendors and food.  This event is held annually to kick off the June as peach month.
X-ALT-DESC;FMTTYPE=text/html:<span style="font-size: 16px\; caret-color: rgb(85\, 85\, 85)\; color: rgb(85\, 85\, 85)\; font-family: Raleway\, sans-serif\; letter-spacing: 0.5px\; background-color: rgb(243\, 243\, 243)\;">Held in downtown Clanton\, City Fest is a fun night of entertainment\, vendors and food.&nbsp\; This event is held annually to kick off the June as peach month.</span>
LOCATION:Downtown Clanton
UID:e.3404.799
SEQUENCE:3
DTSTAMP:20260420T234253Z
URL:https://www.chiltonchamber.org/events/details/clanton-city-fest-799
END:VEVENT

END:VCALENDAR
