BEGIN:VCALENDAR
VERSION:2.0
PRODID:-//ChamberMaster//Event Calendar 2.0//EN
METHOD:PUBLISH
X-PUBLISHED-TTL:P3D
REFRESH-INTERVAL:P3D
CALSCALE:GREGORIAN
BEGIN:VEVENT
DTSTART:20241116T160000Z
DTEND:20241116T220000Z
X-MICROSOFT-CDO-ALLDAYEVENT:FALSE
SUMMARY:Jemison Founders Day
DESCRIPTION:Celebration to celebrate the founding of Jemison.
X-ALT-DESC;FMTTYPE=text/html:Celebration to celebrate the founding of Jemison.
LOCATION:Jemison City Park
UID:e.3404.864
SEQUENCE:3
DTSTAMP:20260425T194754Z
URL:https://www.chiltonchamber.org/events/details/jemison-founders-day-864
END:VEVENT

END:VCALENDAR
