BEGIN:VCALENDAR
VERSION:2.0
PRODID:-//ChamberMaster//Event Calendar 2.0//EN
METHOD:PUBLISH
X-PUBLISHED-TTL:P3D
REFRESH-INTERVAL:P3D
CALSCALE:GREGORIAN
BEGIN:VEVENT
DTSTART:20251114T000000Z
DTEND:20251114T020000Z
X-MICROSOFT-CDO-ALLDAYEVENT:FALSE
SUMMARY:Liberty Christian Academy Gala
DESCRIPTION:An unforgettable evening of fellowship\, fun and fundraising.  Online\, silent and live auction.
X-ALT-DESC;FMTTYPE=text/html:An unforgettable evening of fellowship\, fun and fundraising. &nbsp\;Online\, silent and live auction.
LOCATION:6th Street Warehouse\, Clanton\, AL
UID:e.3404.908
SEQUENCE:3
DTSTAMP:20260426T003947Z
URL:https://www.chiltonchamber.org/events/details/liberty-christian-academy-gala-908
END:VEVENT

END:VCALENDAR
