BEGIN:VCALENDAR
VERSION:2.0
PRODID:-//ChamberMaster//Event Calendar 2.0//EN
METHOD:PUBLISH
X-PUBLISHED-TTL:P3D
REFRESH-INTERVAL:P3D
CALSCALE:GREGORIAN
BEGIN:VEVENT
DTSTART:20250927T160000Z
DTEND:20250927T200000Z
X-MICROSOFT-CDO-ALLDAYEVENT:FALSE
SUMMARY:Maplesville Harvest Day
DESCRIPTION:Local celebration including food trucks\, arts and crafts\, and kids zone.
X-ALT-DESC;FMTTYPE=text/html:Local celebration including food trucks\, arts and crafts\, and kids zone.
LOCATION:Main Street\, Maplesville\, AL 36750
UID:e.3404.897
SEQUENCE:3
DTSTAMP:20260425T222454Z
URL:https://www.chiltonchamber.org/events/details/maplesville-harvest-day-897
END:VEVENT

END:VCALENDAR
