BEGIN:VCALENDAR
VERSION:2.0
PRODID:-//ChamberMaster//Event Calendar 2.0//EN
METHOD:PUBLISH
X-PUBLISHED-TTL:P3D
REFRESH-INTERVAL:P3D
CALSCALE:GREGORIAN
BEGIN:VEVENT
DTSTART:20251114T143000Z
DTEND:20251114T160000Z
X-MICROSOFT-CDO-ALLDAYEVENT:FALSE
SUMMARY:Modern Manufacturing Meet and Greet
DESCRIPTION:Learn about new classes offered at LeCroy Career Tech Center.  Tour the campus and talk with local manufacturers about skills needed to improve readiness for local students to enter the workforce.
X-ALT-DESC;FMTTYPE=text/html:Learn about new classes offered at LeCroy Career Tech Center. &nbsp\;Tour the campus and talk with local manufacturers about skills needed to improve readiness for local students to enter the workforce.
LOCATION:
UID:e.3404.909
SEQUENCE:3
DTSTAMP:20260426T003846Z
URL:https://www.chiltonchamber.org/events/details/modern-manufacturing-meet-and-greet-909
END:VEVENT

END:VCALENDAR
