BEGIN:VCALENDAR
VERSION:2.0
PRODID:-//ChamberMaster//Event Calendar 2.0//EN
METHOD:PUBLISH
X-PUBLISHED-TTL:P3D
REFRESH-INTERVAL:P3D
CALSCALE:GREGORIAN
BEGIN:VEVENT
DTSTART:20230618T000000Z
DTEND:20230618T010000Z
X-MICROSOFT-CDO-ALLDAYEVENT:FALSE
SUMMARY:Much A Brew
DESCRIPTION:Come to Much A Brew for an amazing stand up comedian performance.
X-ALT-DESC;FMTTYPE=text/html:Come to Much A Brew for an amazing stand up comedian performance.&nbsp\;
LOCATION:8 Village Square Clanton\, AL 35045
UID:e.3404.802
SEQUENCE:3
DTSTAMP:20260425T154727Z
URL:https://www.chiltonchamber.org/events/details/much-a-brew-802
END:VEVENT

END:VCALENDAR
