BEGIN:VCALENDAR
VERSION:2.0
PRODID:-//ChamberMaster//Event Calendar 2.0//EN
METHOD:PUBLISH
X-PUBLISHED-TTL:P3D
REFRESH-INTERVAL:P3D
CALSCALE:GREGORIAN
BEGIN:VEVENT
DTSTART:20251025T220000Z
DTEND:20251026T010000Z
X-MICROSOFT-CDO-ALLDAYEVENT:FALSE
SUMMARY:Olde Town Jemison Trunk or Treat
DESCRIPTION:Trunk or Treat event in downtown Jemison.  Located on old Main Street by Olde Town Scoops
X-ALT-DESC;FMTTYPE=text/html:Trunk or Treat event in downtown Jemison. &nbsp\;Located on old Main Street by Olde Town Scoops
LOCATION:
UID:e.3404.901
SEQUENCE:3
DTSTAMP:20260425T233329Z
URL:https://www.chiltonchamber.org/events/details/olde-town-jemison-trunk-or-treat-901
END:VEVENT

END:VCALENDAR
