BEGIN:VCALENDAR
VERSION:2.0
PRODID:-//ChamberMaster//Event Calendar 2.0//EN
METHOD:PUBLISH
X-PUBLISHED-TTL:P3D
REFRESH-INTERVAL:P3D
CALSCALE:GREGORIAN
BEGIN:VEVENT
DTSTART;VALUE=DATE:20250614
DTEND;VALUE=DATE:20250615
TRANSP:TRANSPARENT
X-MICROSOFT-CDO-ALLDAYEVENT:TRUE
SUMMARY:Peach Cook Off
DESCRIPTION:For more information\, contact the Chilton County Extension office at 205-280-6268
X-ALT-DESC;FMTTYPE=text/html:For more information\, contact the Chilton County Extension office at 205-280-6268
LOCATION:
UID:e.3404.885
SEQUENCE:3
DTSTAMP:20260425T184744Z
URL:https://www.chiltonchamber.org/events/details/peach-cook-off-885
END:VEVENT

END:VCALENDAR
