BEGIN:VCALENDAR
VERSION:2.0
PRODID:-//ChamberMaster//Event Calendar 2.0//EN
METHOD:PUBLISH
X-PUBLISHED-TTL:P3D
REFRESH-INTERVAL:P3D
CALSCALE:GREGORIAN
BEGIN:VEVENT
DTSTART;VALUE=DATE:20240608
DTEND;VALUE=DATE:20240609
TRANSP:TRANSPARENT
X-MICROSOFT-CDO-ALLDAYEVENT:TRUE
SUMMARY:Peach Jam Jubilee
DESCRIPTION:The 2024 Peach Jam Jubilee will feature live entertainment\, arts and crafts vendors\, food vendors\, a hot air balloon ride\, horseback riding\, and inflatables.  This is a free outdoor event and everyone is welcome.
X-ALT-DESC;FMTTYPE=text/html:The 2024 Peach Jam Jubilee will feature live entertainment\, arts and crafts vendors\, food vendors\, a hot air balloon ride\, horseback riding\, and inflatables.&nbsp\; This is a free outdoor event and everyone is welcome.&nbsp\;&nbsp\;&nbsp\;&nbsp\;
LOCATION:Clanton City Park\, Clanton\, AL
UID:e.3404.825
SEQUENCE:3
DTSTAMP:20260426T014239Z
URL:https://www.chiltonchamber.org/events/details/peach-jam-jubilee-825
END:VEVENT

END:VCALENDAR
