BEGIN:VCALENDAR
VERSION:2.0
PRODID:-//ChamberMaster//Event Calendar 2.0//EN
METHOD:PUBLISH
X-PUBLISHED-TTL:P3D
REFRESH-INTERVAL:P3D
CALSCALE:GREGORIAN
BEGIN:VEVENT
DTSTART:20250621T120000Z
DTEND:20250621T140000Z
X-MICROSOFT-CDO-ALLDAYEVENT:FALSE
SUMMARY:Peach Run sponsored by Cornerstone Fitness
DESCRIPTION:Register at Cornerstone Fitness or online at runsignup.com
X-ALT-DESC;FMTTYPE=text/html:Register at Cornerstone Fitness or online at runsignup.com
LOCATION:
UID:e.3404.886
SEQUENCE:3
DTSTAMP:20260425T185343Z
URL:https://www.chiltonchamber.org/events/details/peach-run-sponsored-by-cornerstone-fitness-886
END:VEVENT

END:VCALENDAR
