BEGIN:VCALENDAR
VERSION:2.0
PRODID:-//ChamberMaster//Event Calendar 2.0//EN
METHOD:PUBLISH
X-PUBLISHED-TTL:P3D
REFRESH-INTERVAL:P3D
CALSCALE:GREGORIAN
BEGIN:VEVENT
DTSTART:20250528T164500Z
DTEND:20250528T180000Z
X-MICROSOFT-CDO-ALLDAYEVENT:FALSE
SUMMARY:Power of the Web / Central Access and Rotary Club of Chilton County
DESCRIPTION:
X-ALT-DESC;FMTTYPE=text/html:
LOCATION:Chilton Clanton Public Library RSVP to 205-755-2400 or brandy@chiltonchamber.org
UID:e.3404.884
SEQUENCE:3
DTSTAMP:20260425T151709Z
URL:https://www.chiltonchamber.org/events/details/power-of-the-web-central-access-and-rotary-club-of-chilton-county-884
END:VEVENT

END:VCALENDAR
