BEGIN:VCALENDAR
VERSION:2.0
PRODID:-//ChamberMaster//Event Calendar 2.0//EN
METHOD:PUBLISH
X-PUBLISHED-TTL:P3D
REFRESH-INTERVAL:P3D
CALSCALE:GREGORIAN
BEGIN:VEVENT
DTSTART:20250718T163000Z
DTEND:20250718T180000Z
X-MICROSOFT-CDO-ALLDAYEVENT:FALSE
SUMMARY:Power & Purpose Luncheon with Senator April Weaver\, sponsored by Chilton Women of Impact
DESCRIPTION:
X-ALT-DESC;FMTTYPE=text/html:
LOCATION:Valle Grande Mexican Grill Cost is $15 per person. RSVP to Chilton Women of Impact\, Find the group on Facebook
UID:e.3404.888
SEQUENCE:3
DTSTAMP:20260425T201451Z
URL:https://www.chiltonchamber.org/events/details/power-purpose-luncheon-with-senator-april-weaver-sponsored-by-chilton-women-of-impact-888
END:VEVENT

END:VCALENDAR
