BEGIN:VCALENDAR
VERSION:2.0
PRODID:-//ChamberMaster//Event Calendar 2.0//EN
METHOD:PUBLISH
X-PUBLISHED-TTL:P3D
REFRESH-INTERVAL:P3D
CALSCALE:GREGORIAN
BEGIN:VEVENT
DTSTART:20241001T160000Z
DTEND:20241001T170000Z
X-MICROSOFT-CDO-ALLDAYEVENT:FALSE
SUMMARY:Raleigh's Place Open House and Ribbon Cutting at Katie's Kloset
DESCRIPTION:
X-ALT-DESC;FMTTYPE=text/html:
LOCATION:1010 Lay Dam Road Clanton\, AL 35045
UID:e.3404.853
SEQUENCE:3
DTSTAMP:20260425T211829Z
URL:https://www.chiltonchamber.org/events/details/raleigh-s-place-open-house-and-ribbon-cutting-at-katie-s-kloset-853
END:VEVENT

END:VCALENDAR
