BEGIN:VCALENDAR
VERSION:2.0
PRODID:-//ChamberMaster//Event Calendar 2.0//EN
METHOD:PUBLISH
X-PUBLISHED-TTL:P3D
REFRESH-INTERVAL:P3D
CALSCALE:GREGORIAN
BEGIN:VEVENT
DTSTART:20250502T160000Z
DTEND:20250502T160000Z
X-MICROSOFT-CDO-ALLDAYEVENT:FALSE
SUMMARY:Ribbon Cutting at Clanton Auto Supply
DESCRIPTION:Join us as we celebrate the new location of Clanton Auto Supply.  2101 Pine Street\, Clanton.  Former Skating Rink location\, behind Jack's
X-ALT-DESC;FMTTYPE=text/html:Join us as we celebrate the new location of Clanton Auto Supply.&nbsp\; 2101 Pine Street\, Clanton.&nbsp\; Former Skating Rink location\, behind Jack&#39\;s
LOCATION:
UID:e.3404.879
SEQUENCE:3
DTSTAMP:20260425T133815Z
URL:https://www.chiltonchamber.org/events/details/ribbon-cutting-at-clanton-auto-supply-879
END:VEVENT

END:VCALENDAR
