BEGIN:VCALENDAR
VERSION:2.0
PRODID:-//ChamberMaster//Event Calendar 2.0//EN
METHOD:PUBLISH
X-PUBLISHED-TTL:P3D
REFRESH-INTERVAL:P3D
CALSCALE:GREGORIAN
BEGIN:VEVENT
DTSTART:20251103T170000Z
DTEND:20251103T173000Z
X-MICROSOFT-CDO-ALLDAYEVENT:FALSE
SUMMARY:Ribbon Cutting at Little Mexico
DESCRIPTION:
X-ALT-DESC;FMTTYPE=text/html:
LOCATION:November 3rd at 11am 1601 7th Street North\, Suite A Clanton\, AL 35045
UID:e.3404.906
SEQUENCE:3
DTSTAMP:20260426T003953Z
URL:https://www.chiltonchamber.org/events/details/ribbon-cutting-at-little-mexico-906
END:VEVENT

END:VCALENDAR
