BEGIN:VCALENDAR
VERSION:2.0
PRODID:-//ChamberMaster//Event Calendar 2.0//EN
METHOD:PUBLISH
X-PUBLISHED-TTL:P3D
REFRESH-INTERVAL:P3D
CALSCALE:GREGORIAN
BEGIN:VEVENT
DTSTART:20250522T160000Z
DTEND:20250523T043000Z
X-MICROSOFT-CDO-ALLDAYEVENT:FALSE
SUMMARY:Ribbon Cutting at The Mane Society and Lash Studio
DESCRIPTION:
X-ALT-DESC;FMTTYPE=text/html:
LOCATION:23354 Hwy 31\, Jemison\, AL
UID:e.3404.883
SEQUENCE:3
DTSTAMP:20260425T134021Z
URL:https://www.chiltonchamber.org/events/details/ribbon-cutting-at-the-mane-society-and-lash-studio-883
END:VEVENT

END:VCALENDAR
