BEGIN:VCALENDAR
VERSION:2.0
PRODID:-//ChamberMaster//Event Calendar 2.0//EN
METHOD:PUBLISH
X-PUBLISHED-TTL:P3D
REFRESH-INTERVAL:P3D
CALSCALE:GREGORIAN
BEGIN:VEVENT
DTSTART:20250129T173000Z
DTEND:20250129T180000Z
X-MICROSOFT-CDO-ALLDAYEVENT:FALSE
SUMMARY:Ribbon Cutting / Dr.Olivia Miller Chiropractor at The Well Spa
DESCRIPTION:
X-ALT-DESC;FMTTYPE=text/html:
LOCATION:
UID:e.3404.873
SEQUENCE:3
DTSTAMP:20260425T185343Z
URL:https://www.chiltonchamber.org/events/details/ribbon-cutting-dr-olivia-miller-chiropractor-at-the-well-spa-873
END:VEVENT

END:VCALENDAR
