BEGIN:VCALENDAR
VERSION:2.0
PRODID:-//ChamberMaster//Event Calendar 2.0//EN
METHOD:PUBLISH
X-PUBLISHED-TTL:P3D
REFRESH-INTERVAL:P3D
CALSCALE:GREGORIAN
BEGIN:VEVENT
DTSTART:20240722T180000Z
DTEND:20240722T190000Z
X-MICROSOFT-CDO-ALLDAYEVENT:FALSE
SUMMARY:Ribbon Cutting for Holy Cow Boutique and Zee's Over Yonder
DESCRIPTION:
X-ALT-DESC;FMTTYPE=text/html:
LOCATION:
UID:e.3404.840
SEQUENCE:3
DTSTAMP:20260426T004132Z
URL:https://www.chiltonchamber.org/events/details/ribbon-cutting-for-holy-cow-boutique-and-zee-s-over-yonder-840
END:VEVENT

END:VCALENDAR
