BEGIN:VCALENDAR
VERSION:2.0
PRODID:-//ChamberMaster//Event Calendar 2.0//EN
METHOD:PUBLISH
X-PUBLISHED-TTL:P3D
REFRESH-INTERVAL:P3D
CALSCALE:GREGORIAN
BEGIN:VEVENT
DTSTART:20250129T173000Z
DTEND:20250129T180000Z
X-MICROSOFT-CDO-ALLDAYEVENT:FALSE
SUMMARY:Ribbon Cutting/ The Well Spa
DESCRIPTION:Join us as we celebrate this new business with a ribbon cutting on Wednesday\, January 29th at 11:30 a.m.
X-ALT-DESC;FMTTYPE=text/html:Join us as we celebrate this new business with a ribbon cutting on Wednesday\, January 29th at 11:30 a.m.
LOCATION:
UID:e.3404.872
SEQUENCE:3
DTSTAMP:20260425T173031Z
URL:https://www.chiltonchamber.org/events/details/ribbon-cutting-the-well-spa-872
END:VEVENT

END:VCALENDAR
