BEGIN:VCALENDAR
VERSION:2.0
PRODID:-//ChamberMaster//Event Calendar 2.0//EN
METHOD:PUBLISH
X-PUBLISHED-TTL:P3D
REFRESH-INTERVAL:P3D
CALSCALE:GREGORIAN
BEGIN:VEVENT
DTSTART:20250508T160000Z
DTEND:20250508T170000Z
X-MICROSOFT-CDO-ALLDAYEVENT:FALSE
SUMMARY:Ribbon Cutting Universal Heights Academy
DESCRIPTION:Join us for a ribbon cutting for new business\, Universal Heights Academy\, 901 Lake Mitchell Road\, Clanton\, AL 35045
X-ALT-DESC;FMTTYPE=text/html:Join us for a ribbon cutting for new business\, Universal Heights Academy\, 901 Lake Mitchell Road\, Clanton\, AL 35045
LOCATION:
UID:e.3404.880
SEQUENCE:3
DTSTAMP:20260425T133843Z
URL:https://www.chiltonchamber.org/events/details/ribbon-cutting-universal-heights-academy-880
END:VEVENT

END:VCALENDAR
