BEGIN:VCALENDAR
VERSION:2.0
PRODID:-//ChamberMaster//Event Calendar 2.0//EN
METHOD:PUBLISH
X-PUBLISHED-TTL:P3D
REFRESH-INTERVAL:P3D
CALSCALE:GREGORIAN
BEGIN:VEVENT
DTSTART:20250801T163000Z
DTEND:20250801T180000Z
X-MICROSOFT-CDO-ALLDAYEVENT:FALSE
SUMMARY:Senior Connection BBQ Fundraiser
DESCRIPTION:Senior Connection Annual BBQ fundraiser.  BBQ rib plate\, baked beans\, Cole slaw.\n\nPick up at 10 am or dine in at 11:30 am
X-ALT-DESC;FMTTYPE=text/html:Senior Connection Annual BBQ fundraiser. &nbsp\;BBQ rib plate\, baked beans\, Cole slaw.<br />\nPick up at 10 am or dine in at 11:30 am
LOCATION:510 Airport Road Clanton\, AL 35045
UID:e.3404.892
SEQUENCE:3
DTSTAMP:20260425T211723Z
URL:https://www.chiltonchamber.org/events/details/senior-connection-bbq-fundraiser-892
END:VEVENT

END:VCALENDAR
