BEGIN:VCALENDAR
VERSION:2.0
PRODID:-//ChamberMaster//Event Calendar 2.0//EN
METHOD:PUBLISH
X-PUBLISHED-TTL:P3D
REFRESH-INTERVAL:P3D
CALSCALE:GREGORIAN
BEGIN:VEVENT
DTSTART:20250710T140000Z
DTEND:20250710T190000Z
X-MICROSOFT-CDO-ALLDAYEVENT:FALSE
SUMMARY:State of Alabama EMA - Open House Event
DESCRIPTION:Join us for an open house and tour the new facility of the State of Alabama Emergency Management Agency.
X-ALT-DESC;FMTTYPE=text/html:Join us for an open house and tour the new facility of the State of Alabama Emergency Management Agency.
LOCATION:5898 County Road 41\, Clanton\, AL 35045
UID:e.3404.890
SEQUENCE:3
DTSTAMP:20260425T201204Z
URL:https://www.chiltonchamber.org/events/details/state-of-alabama-ema-open-house-event-890
END:VEVENT

END:VCALENDAR
