BEGIN:VCALENDAR
VERSION:2.0
PRODID:-//ChamberMaster//Event Calendar 2.0//EN
METHOD:PUBLISH
X-PUBLISHED-TTL:P3D
REFRESH-INTERVAL:P3D
CALSCALE:GREGORIAN
BEGIN:VEVENT
DTSTART:20230509T140000Z
DTEND:20230509T153000Z
X-MICROSOFT-CDO-ALLDAYEVENT:FALSE
SUMMARY:StateWide Transportation improvement Program Public Meeting
DESCRIPTION:To obtain public comment on the statewide Transportation improvement program. The STIP identifies funding and scheduling of transportation projects and programs. it includes projects on the federal\, state\, city\, and county transportation systems\, multimodal projects.
X-ALT-DESC;FMTTYPE=text/html:To obtain public comment on the statewide Transportation improvement program. The STIP identifies funding and scheduling of transportation projects and programs. it includes projects on the federal\, state\, city\, and county transportation systems\, multimodal projects.&nbsp\;
LOCATION:Jemison City Hall Auditorium 14 Padgett Ln Jemison\, AL
UID:e.3404.796
SEQUENCE:3
DTSTAMP:20260425T103124Z
URL:https://www.chiltonchamber.org/events/details/statewide-transportation-improvement-program-public-meeting-796
END:VEVENT

END:VCALENDAR
