BEGIN:VCALENDAR
VERSION:2.0
PRODID:-//ChamberMaster//Event Calendar 2.0//EN
METHOD:PUBLISH
X-PUBLISHED-TTL:P3D
REFRESH-INTERVAL:P3D
CALSCALE:GREGORIAN
BEGIN:VEVENT
DTSTART:20250920T140000Z
DTEND:20250920T200000Z
X-MICROSOFT-CDO-ALLDAYEVENT:FALSE
SUMMARY:The Great Garden Festival by Petals from the Past
DESCRIPTION:The Great Garden Festival is held annual and celebrates all things FALL.  Includes live music\, classes on soap making\, bee keeping and more.\n\nLive music\, YouTube Meet and Greet\, and vendors selling handmade goods.
X-ALT-DESC;FMTTYPE=text/html:The Great Garden Festival is held annual and celebrates all things FALL. &nbsp\;Includes live music\, classes on soap making\, bee keeping and more.<br />\nLive music\, YouTube Meet and Greet\, and vendors selling handmade goods.
LOCATION:Petals from the Past\, Jemison\, AL
UID:e.3404.895
SEQUENCE:3
DTSTAMP:20260425T222755Z
URL:https://www.chiltonchamber.org/events/details/the-great-garden-festival-by-petals-from-the-past-895
END:VEVENT

END:VCALENDAR
