BEGIN:VCALENDAR
VERSION:2.0
PRODID:-//ChamberMaster//Event Calendar 2.0//EN
METHOD:PUBLISH
X-PUBLISHED-TTL:P3D
REFRESH-INTERVAL:P3D
CALSCALE:GREGORIAN
BEGIN:VEVENT
DTSTART:20231126T220000Z
DTEND:20231127T000000Z
X-MICROSOFT-CDO-ALLDAYEVENT:FALSE
SUMMARY:Thorsby Christmas Tree Lighting
DESCRIPTION:
X-ALT-DESC;FMTTYPE=text/html:
LOCATION:
UID:e.3404.823
SEQUENCE:3
DTSTAMP:20260420T204334Z
URL:https://www.chiltonchamber.org/events/details/thorsby-christmas-tree-lighting-823
END:VEVENT

END:VCALENDAR
