BEGIN:VCALENDAR
VERSION:2.0
PRODID:-//ChamberMaster//Event Calendar 2.0//EN
METHOD:PUBLISH
X-PUBLISHED-TTL:P3D
REFRESH-INTERVAL:P3D
CALSCALE:GREGORIAN
BEGIN:VEVENT
DTSTART;VALUE=DATE:20241012
DTEND;VALUE=DATE:20241013
TRANSP:TRANSPARENT
X-MICROSOFT-CDO-ALLDAYEVENT:TRUE
SUMMARY:Thorsby Swedish Festival
DESCRIPTION:Event celebrates the founding of the City of Thorsby and its Scandinavian roots.  Food trucks\, arts and craft vendors\, live entertainment\, and more.
X-ALT-DESC;FMTTYPE=text/html:Event celebrates the founding of the City of Thorsby and its Scandinavian roots.&nbsp\; Food trucks\, arts and craft vendors\, live entertainment\, and more.
LOCATION:Richard Wood Park in Thorsby\, AL
UID:e.3404.857
SEQUENCE:3
DTSTAMP:20260425T222618Z
URL:https://www.chiltonchamber.org/events/details/thorsby-swedish-festival-857
END:VEVENT

END:VCALENDAR
