BEGIN:VCALENDAR
VERSION:2.0
PRODID:-//ChamberMaster//Event Calendar 2.0//EN
METHOD:PUBLISH
X-PUBLISHED-TTL:P3D
REFRESH-INTERVAL:P3D
CALSCALE:GREGORIAN
BEGIN:VEVENT
DTSTART:20251031T220000Z
DTEND:20251031T233000Z
X-MICROSOFT-CDO-ALLDAYEVENT:FALSE
SUMMARY:Treats on Main by the Town of Maplesville
DESCRIPTION:Fun\, safe community tradition.  Bring your lawn chairs and hand out candy from the sidewalks on Main Street.
X-ALT-DESC;FMTTYPE=text/html:Fun\, safe community tradition. &nbsp\;Bring your lawn chairs and hand out candy from the sidewalks on Main Street.
LOCATION:
UID:e.3404.903
SEQUENCE:3
DTSTAMP:20260425T233707Z
URL:https://www.chiltonchamber.org/events/details/treats-on-main-by-the-town-of-maplesville-903
END:VEVENT

END:VCALENDAR
