BEGIN:VCALENDAR
VERSION:2.0
PRODID:-//ChamberMaster//Event Calendar 2.0//EN
METHOD:PUBLISH
X-PUBLISHED-TTL:P3D
REFRESH-INTERVAL:P3D
CALSCALE:GREGORIAN
BEGIN:VEVENT
DTSTART:20251031T223000Z
DTEND:20251101T003000Z
X-MICROSOFT-CDO-ALLDAYEVENT:FALSE
SUMMARY:Trick or Treat the Streets hosted by the Chilton Chamber
DESCRIPTION:A fun opportunity for your business to hand out candy to our communities children.
X-ALT-DESC;FMTTYPE=text/html:A fun opportunity for your business to hand out candy to our communities children. &nbsp\;
LOCATION:Downtown Clanton\, 2nd Avenue and 6th Street
UID:e.3404.904
SEQUENCE:3
DTSTAMP:20260425T233802Z
URL:https://www.chiltonchamber.org/events/details/trick-or-treat-the-streets-hosted-by-the-chilton-chamber-904
END:VEVENT

END:VCALENDAR
